BEGIN:VCALENDAR
VERSION:2.0
PRODID:-//Montpeyroux - Hérault - ECPv6.15.20//NONSGML v1.0//EN
CALSCALE:GREGORIAN
METHOD:PUBLISH
X-WR-CALNAME:Montpeyroux - Hérault
X-ORIGINAL-URL:https://montpeyroux34.com
X-WR-CALDESC:Évènements pour Montpeyroux - Hérault
REFRESH-INTERVAL;VALUE=DURATION:PT1H
X-Robots-Tag:noindex
X-PUBLISHED-TTL:PT1H
BEGIN:VTIMEZONE
TZID:Europe/Paris
BEGIN:DAYLIGHT
TZOFFSETFROM:+0100
TZOFFSETTO:+0200
TZNAME:CEST
DTSTART:20140330T010000
END:DAYLIGHT
BEGIN:STANDARD
TZOFFSETFROM:+0200
TZOFFSETTO:+0100
TZNAME:CET
DTSTART:20141026T010000
END:STANDARD
BEGIN:DAYLIGHT
TZOFFSETFROM:+0100
TZOFFSETTO:+0200
TZNAME:CEST
DTSTART:20150329T010000
END:DAYLIGHT
BEGIN:STANDARD
TZOFFSETFROM:+0200
TZOFFSETTO:+0100
TZNAME:CET
DTSTART:20151025T010000
END:STANDARD
BEGIN:DAYLIGHT
TZOFFSETFROM:+0100
TZOFFSETTO:+0200
TZNAME:CEST
DTSTART:20160327T010000
END:DAYLIGHT
BEGIN:STANDARD
TZOFFSETFROM:+0200
TZOFFSETTO:+0100
TZNAME:CET
DTSTART:20161030T010000
END:STANDARD
END:VTIMEZONE
BEGIN:VEVENT
DTSTART;TZID=Europe/Paris:20150703T190000
DTEND;TZID=Europe/Paris:20150703T230000
DTSTAMP:20260426T035355
CREATED:20150630T104722Z
LAST-MODIFIED:20150630T104722Z
UID:755-1435950000-1435964400@montpeyroux34.com
SUMMARY:REPAS QUARTIER DE LA MEILLADE
DESCRIPTION:
URL:https://montpeyroux34.com/event/repas-quartier-de-la-meillade/
LOCATION:PLACE DU JEU DE BALLON\, MONTPEYROUX\, 34150\, France
CATEGORIES:Manifestations
END:VEVENT
BEGIN:VEVENT
DTSTART;TZID=Europe/Paris:20150704T190000
DTEND;TZID=Europe/Paris:20150704T230000
DTSTAMP:20260426T035355
CREATED:20150630T104535Z
LAST-MODIFIED:20150630T104535Z
UID:754-1436036400-1436050800@montpeyroux34.com
SUMMARY:REPAS DE QUARTIER RUE DE LA DYSSE
DESCRIPTION:
URL:https://montpeyroux34.com/event/repas-de-quartier-rue-de-la-dysse/
LOCATION:Rue de la Dysse\, Montpeyroux\, 34150\, France
CATEGORIES:Manifestations
END:VEVENT
BEGIN:VEVENT
DTSTART;TZID=Europe/Paris:20150714T110000
DTEND;TZID=Europe/Paris:20150714T230000
DTSTAMP:20260426T035355
CREATED:20150623T181040Z
LAST-MODIFIED:20150623T181040Z
UID:740-1436871600-1436914800@montpeyroux34.com
SUMMARY:14 juillet 2015
DESCRIPTION:
URL:https://montpeyroux34.com/event/14-juillet-2015/
LOCATION:Place du Couvent\, HERAULT\, 34150\, France
CATEGORIES:Manifestations
END:VEVENT
BEGIN:VEVENT
DTSTART;TZID=Europe/Paris:20150725T200000
DTEND;TZID=Europe/Paris:20150725T230000
DTSTAMP:20260426T035355
CREATED:20150718T054230Z
LAST-MODIFIED:20150718T054230Z
UID:796-1437854400-1437865200@montpeyroux34.com
SUMMARY:18éme fête du Barry
DESCRIPTION:Les habitants du Barry et L’association Rebourdélis\nsont heureux de vous annoncer la\n18ème fête du Barry\nqui aura lieu le samedi 25 juillet à 20h \n  \n 
URL:https://montpeyroux34.com/event/18eme-fete-du-barry/
LOCATION:Eglise St Roch
CATEGORIES:Manifestations
END:VEVENT
END:VCALENDAR