BEGIN:VCALENDAR
VERSION:2.0
PRODID:-//Montpeyroux - Hérault - ECPv6.15.20//NONSGML v1.0//EN
CALSCALE:GREGORIAN
METHOD:PUBLISH
X-WR-CALNAME:Montpeyroux - Hérault
X-ORIGINAL-URL:https://montpeyroux34.com
X-WR-CALDESC:Évènements pour Montpeyroux - Hérault
REFRESH-INTERVAL;VALUE=DURATION:PT1H
X-Robots-Tag:noindex
X-PUBLISHED-TTL:PT1H
BEGIN:VTIMEZONE
TZID:Europe/Paris
BEGIN:DAYLIGHT
TZOFFSETFROM:+0100
TZOFFSETTO:+0200
TZNAME:CEST
DTSTART:20140330T010000
END:DAYLIGHT
BEGIN:STANDARD
TZOFFSETFROM:+0200
TZOFFSETTO:+0100
TZNAME:CET
DTSTART:20141026T010000
END:STANDARD
BEGIN:DAYLIGHT
TZOFFSETFROM:+0100
TZOFFSETTO:+0200
TZNAME:CEST
DTSTART:20150329T010000
END:DAYLIGHT
BEGIN:STANDARD
TZOFFSETFROM:+0200
TZOFFSETTO:+0100
TZNAME:CET
DTSTART:20151025T010000
END:STANDARD
BEGIN:DAYLIGHT
TZOFFSETFROM:+0100
TZOFFSETTO:+0200
TZNAME:CEST
DTSTART:20160327T010000
END:DAYLIGHT
BEGIN:STANDARD
TZOFFSETFROM:+0200
TZOFFSETTO:+0100
TZNAME:CET
DTSTART:20161030T010000
END:STANDARD
END:VTIMEZONE
BEGIN:VEVENT
DTSTART;TZID=Europe/Paris:20150803T080000
DTEND;TZID=Europe/Paris:20150812T170000
DTSTAMP:20260426T023540
CREATED:20150718T054831Z
LAST-MODIFIED:20150718T054831Z
UID:802-1438588800-1439398800@montpeyroux34.com
SUMMARY:Festival des Arts 2015
DESCRIPTION:
URL:https://montpeyroux34.com/event/festival-des-arts-2015/
LOCATION:Eglise St Roch
CATEGORIES:Manifestations
END:VEVENT
BEGIN:VEVENT
DTSTART;TZID=Europe/Paris:20150822T080000
DTEND;TZID=Europe/Paris:20150823T180000
DTSTAMP:20260426T023540
CREATED:20150705T124851Z
LAST-MODIFIED:20150705T124851Z
UID:768-1440230400-1440352800@montpeyroux34.com
SUMMARY:Fête de la Meillade
DESCRIPTION:
URL:https://montpeyroux34.com/event/fete-de-la-meillade/
LOCATION:PLACE DU JEU DE BALLON\, MONTPEYROUX\, 34150\, France
CATEGORIES:Manifestations
END:VEVENT
BEGIN:VEVENT
DTSTART;TZID=Europe/Paris:20150829T193000
DTEND;TZID=Europe/Paris:20150829T230000
DTSTAMP:20260426T023540
CREATED:20150828T045948Z
LAST-MODIFIED:20150828T045948Z
UID:920-1440876600-1440889200@montpeyroux34.com
SUMMARY:Concert - ROCK N' ROLL N' FISH N' CHIPS
DESCRIPTION:
URL:https://montpeyroux34.com/event/concert-rock-n-roll-n-fish-n-chips/
LOCATION:Eglise St Roch
CATEGORIES:Manifestations
END:VEVENT
END:VCALENDAR