BEGIN:VCALENDAR
VERSION:2.0
PRODID:-//Montpeyroux - Hérault - ECPv6.15.20//NONSGML v1.0//EN
CALSCALE:GREGORIAN
METHOD:PUBLISH
X-WR-CALNAME:Montpeyroux - Hérault
X-ORIGINAL-URL:https://montpeyroux34.com
X-WR-CALDESC:Évènements pour Montpeyroux - Hérault
REFRESH-INTERVAL;VALUE=DURATION:PT1H
X-Robots-Tag:noindex
X-PUBLISHED-TTL:PT1H
BEGIN:VTIMEZONE
TZID:Europe/Paris
BEGIN:DAYLIGHT
TZOFFSETFROM:+0100
TZOFFSETTO:+0200
TZNAME:CEST
DTSTART:20140330T010000
END:DAYLIGHT
BEGIN:STANDARD
TZOFFSETFROM:+0200
TZOFFSETTO:+0100
TZNAME:CET
DTSTART:20141026T010000
END:STANDARD
BEGIN:DAYLIGHT
TZOFFSETFROM:+0100
TZOFFSETTO:+0200
TZNAME:CEST
DTSTART:20150329T010000
END:DAYLIGHT
BEGIN:STANDARD
TZOFFSETFROM:+0200
TZOFFSETTO:+0100
TZNAME:CET
DTSTART:20151025T010000
END:STANDARD
BEGIN:DAYLIGHT
TZOFFSETFROM:+0100
TZOFFSETTO:+0200
TZNAME:CEST
DTSTART:20160327T010000
END:DAYLIGHT
BEGIN:STANDARD
TZOFFSETFROM:+0200
TZOFFSETTO:+0100
TZNAME:CET
DTSTART:20161030T010000
END:STANDARD
END:VTIMEZONE
BEGIN:VTIMEZONE
TZID:Europe/Paris
BEGIN:DAYLIGHT
TZOFFSETFROM:+0100
TZOFFSETTO:+0200
TZNAME:CEST
DTSTART:20140330T010000
END:DAYLIGHT
BEGIN:STANDARD
TZOFFSETFROM:+0200
TZOFFSETTO:+0100
TZNAME:CET
DTSTART:20141026T010000
END:STANDARD
BEGIN:DAYLIGHT
TZOFFSETFROM:+0100
TZOFFSETTO:+0200
TZNAME:CEST
DTSTART:20150329T010000
END:DAYLIGHT
BEGIN:STANDARD
TZOFFSETFROM:+0200
TZOFFSETTO:+0100
TZNAME:CET
DTSTART:20151025T010000
END:STANDARD
BEGIN:DAYLIGHT
TZOFFSETFROM:+0100
TZOFFSETTO:+0200
TZNAME:CEST
DTSTART:20160327T010000
END:DAYLIGHT
BEGIN:STANDARD
TZOFFSETFROM:+0200
TZOFFSETTO:+0100
TZNAME:CET
DTSTART:20161030T010000
END:STANDARD
END:VTIMEZONE
BEGIN:VEVENT
DTSTART;TZID=Europe/Paris:20150906T083000
DTEND;TZID=Europe/Paris:20150906T170000
DTSTAMP:20260426T012436
CREATED:20150828T045354Z
LAST-MODIFIED:20150828T045354Z
UID:916-1441528200-1441558800@montpeyroux34.com
SUMMARY:Inauguration du sentier de randonnée pédestre
DESCRIPTION:L’inauguration du sentier de randonnée pédestre « Castelbarry\, entre vignes et oliviers ». À cette occasion\, une marche au départ de la cave coopérative est organisée\, le parcours est prévu pour une durée de 2h de marche environ et convient donc très bien pour les familles. Une randonnée animée par une dégustation de soulinque (premier vin de l’année) \, un guide de l’office de tourisme proposera la visite du Castellas et des ateliers sur la biodiversité seront proposés par l’association « Demain la terre » sur le parcours. À la fin de la marche un repas sera proposé par la « Terrasse du Mimosa » \, tarif 17€- réservation obligatoire avant le 2 septembre 2015- limitée aux 300 premiers inscrits\, au 04 67 96 61 08 Contact : www.castelbarry.com
URL:https://montpeyroux34.com/event/inauguration-du-sentier-de-randonnee-pedestre/
LOCATION:Montpeyroux\, herault\, 34150\, France
CATEGORIES:Manifestations
END:VEVENT
BEGIN:VEVENT
DTSTART;TZID=Europe/Paris:20150913T090000
DTEND;TZID=Europe/Paris:20150913T130000
DTSTAMP:20260426T012436
CREATED:20150828T045702Z
LAST-MODIFIED:20150828T045717Z
UID:918-1442134800-1442149200@montpeyroux34.com
SUMMARY:Journée des associations
DESCRIPTION:
URL:https://montpeyroux34.com/event/fete-des-associations-2/
LOCATION:Montpeyroux\, herault\, 34150\, France
CATEGORIES:Manifestations
END:VEVENT
BEGIN:VEVENT
DTSTART;VALUE=DATE:20150919
DTEND;VALUE=DATE:20150921
DTSTAMP:20260426T012436
CREATED:20150911T151137Z
LAST-MODIFIED:20150911T151137Z
UID:969-1442620800-1442793599@montpeyroux34.com
SUMMARY:Journées européennes du patrimoine
DESCRIPTION:La glacière du Barry sera ouverte le samedi 19 septembre de 11h à 12h \net le dimanche 20 septembre de 10h30 à 12h
URL:https://montpeyroux34.com/event/journees-europeennes-du-patrimoine/
LOCATION:herault
CATEGORIES:Mairie,Manifestations
END:VEVENT
BEGIN:VEVENT
DTSTART;TZID=Europe/Paris:20150926T180000
DTEND;TZID=Europe/Paris:20150926T230000
DTSTAMP:20260426T012436
CREATED:20150402T162218Z
LAST-MODIFIED:20150402T162218Z
UID:439-1443290400-1443308400@montpeyroux34.com
SUMMARY:Concert La Dyssa dança avec repas partagé
DESCRIPTION:
URL:https://montpeyroux34.com/event/concert-la-dyssa-danca-avec-repas-partage/
LOCATION:Rue de la Dysse\, Montpeyroux\, 34150\, France
CATEGORIES:Manifestations
END:VEVENT
BEGIN:VEVENT
DTSTART;VALUE=DATE:20150927
DTEND;VALUE=DATE:20150928
DTSTAMP:20260426T012436
CREATED:20150828T044940Z
LAST-MODIFIED:20150828T044940Z
UID:914-1443312000-1443398399@montpeyroux34.com
SUMMARY:Duo des Lavagnes
DESCRIPTION:26ème édition du « Duo des Lavagnes » : course à pied (trail) de 18km dans un site exceptionnel.
URL:https://montpeyroux34.com/event/duo-des-lavagnes/
LOCATION:Montpeyroux\, herault\, 34150\, France
CATEGORIES:Manifestations
END:VEVENT
END:VCALENDAR