BEGIN:VCALENDAR
VERSION:2.0
PRODID:-//Montpeyroux - Hérault - ECPv6.15.20//NONSGML v1.0//EN
CALSCALE:GREGORIAN
METHOD:PUBLISH
X-ORIGINAL-URL:https://montpeyroux34.com
X-WR-CALDESC:Évènements pour Montpeyroux - Hérault
REFRESH-INTERVAL;VALUE=DURATION:PT1H
X-Robots-Tag:noindex
X-PUBLISHED-TTL:PT1H
BEGIN:VTIMEZONE
TZID:Europe/Paris
BEGIN:DAYLIGHT
TZOFFSETFROM:+0100
TZOFFSETTO:+0200
TZNAME:CEST
DTSTART:20140330T010000
END:DAYLIGHT
BEGIN:STANDARD
TZOFFSETFROM:+0200
TZOFFSETTO:+0100
TZNAME:CET
DTSTART:20141026T010000
END:STANDARD
BEGIN:DAYLIGHT
TZOFFSETFROM:+0100
TZOFFSETTO:+0200
TZNAME:CEST
DTSTART:20150329T010000
END:DAYLIGHT
BEGIN:STANDARD
TZOFFSETFROM:+0200
TZOFFSETTO:+0100
TZNAME:CET
DTSTART:20151025T010000
END:STANDARD
BEGIN:DAYLIGHT
TZOFFSETFROM:+0100
TZOFFSETTO:+0200
TZNAME:CEST
DTSTART:20160327T010000
END:DAYLIGHT
BEGIN:STANDARD
TZOFFSETFROM:+0200
TZOFFSETTO:+0100
TZNAME:CET
DTSTART:20161030T010000
END:STANDARD
END:VTIMEZONE
BEGIN:VEVENT
DTSTART;TZID=Europe/Paris:20151113T080000
DTEND;TZID=Europe/Paris:20151115T170000
DTSTAMP:20260425T223453
CREATED:20151112T123331Z
LAST-MODIFIED:20151112T123331Z
UID:1171-1447401600-1447606800@montpeyroux34.com
SUMMARY:11éme ronde des caves
DESCRIPTION:
URL:https://montpeyroux34.com/event/11eme-ronde-des-caves/
LOCATION:Cave coopérative\, montpeyroux\, 34150\, France
CATEGORIES:Manifestations
END:VEVENT
END:VCALENDAR