BEGIN:VCALENDAR
VERSION:2.0
PRODID:-//Montpeyroux - Hérault - ECPv6.15.20//NONSGML v1.0//EN
CALSCALE:GREGORIAN
METHOD:PUBLISH
X-WR-CALNAME:Montpeyroux - Hérault
X-ORIGINAL-URL:https://montpeyroux34.com
X-WR-CALDESC:Évènements pour Montpeyroux - Hérault
REFRESH-INTERVAL;VALUE=DURATION:PT1H
X-Robots-Tag:noindex
X-PUBLISHED-TTL:PT1H
BEGIN:VTIMEZONE
TZID:Europe/Paris
BEGIN:DAYLIGHT
TZOFFSETFROM:+0100
TZOFFSETTO:+0200
TZNAME:CEST
DTSTART:20140330T010000
END:DAYLIGHT
BEGIN:STANDARD
TZOFFSETFROM:+0200
TZOFFSETTO:+0100
TZNAME:CET
DTSTART:20141026T010000
END:STANDARD
BEGIN:DAYLIGHT
TZOFFSETFROM:+0100
TZOFFSETTO:+0200
TZNAME:CEST
DTSTART:20150329T010000
END:DAYLIGHT
BEGIN:STANDARD
TZOFFSETFROM:+0200
TZOFFSETTO:+0100
TZNAME:CET
DTSTART:20151025T010000
END:STANDARD
BEGIN:DAYLIGHT
TZOFFSETFROM:+0100
TZOFFSETTO:+0200
TZNAME:CEST
DTSTART:20160327T010000
END:DAYLIGHT
BEGIN:STANDARD
TZOFFSETFROM:+0200
TZOFFSETTO:+0100
TZNAME:CET
DTSTART:20161030T010000
END:STANDARD
END:VTIMEZONE
BEGIN:VEVENT
DTSTART;TZID=Europe/Paris:20151206T100000
DTEND;TZID=Europe/Paris:20151206T170000
DTSTAMP:20260425T211149
CREATED:20151109T174445Z
LAST-MODIFIED:20151109T174445Z
UID:1156-1449396000-1449421200@montpeyroux34.com
SUMMARY:Marché de Noël
DESCRIPTION:
URL:https://montpeyroux34.com/event/marche-de-noel-2/
LOCATION:Place du Couvent\, HERAULT\, 34150\, France
CATEGORIES:Manifestations
END:VEVENT
BEGIN:VEVENT
DTSTART;TZID=Europe/Paris:20151211T173000
DTEND;TZID=Europe/Paris:20151211T200000
DTSTAMP:20260425T211149
CREATED:20151208T103547Z
LAST-MODIFIED:20151208T103547Z
UID:1223-1449855000-1449864000@montpeyroux34.com
SUMMARY:Marché de Noël de l'école
DESCRIPTION:la magie de Noël continue avec le marché de Noël de l’école! \nVendredi 11 décembre 2015 à partir de 17h30\, à la salle des fêtes de Montpeyroux. \nNos chérubins clôtureront cette rencontre avec des chants de Noël 😉 \nLes Cagaraulettes seront bien évidemment présentes! Nous vous proposeront nos créations (porte-clés\, photophores\, bocaux « SOS recette toute prête »\, tasses peintes…) et gourmandises… \n***les bénéfices des ventes seront reversés à l’école de Montpeyroux pour la réalisation des projets pédagogiques***
URL:https://montpeyroux34.com/event/marche-de-noel-de-lecole/
LOCATION:SALLE POLYVALENTE\, MONTPEYROUX\, France
CATEGORIES:Manifestations
END:VEVENT
BEGIN:VEVENT
DTSTART;TZID=Europe/Paris:20151220T150000
DTEND;TZID=Europe/Paris:20151220T200000
DTSTAMP:20260425T211149
CREATED:20151212T144446Z
LAST-MODIFIED:20151212T144446Z
UID:1230-1450623600-1450641600@montpeyroux34.com
SUMMARY:Le jour le plus court
DESCRIPTION:Les Associations « Rebourdelis et les Amis du Barry » et « Lune Noire » \nOrganisent deux séances de Courts Métrages \n15h00: Programme Jeunes Publics (6 a 11 ans) En Mouvement (5 films total 49 mins) Faire Semblant (5 films total 44 mins) \n18h00: La Famille S’en Echapper ou pas? (16+) (6 films – total 72 mins) \nPour plus d’info consultez le site: www.lejourlepluscourt.com \nContact: Alison Collins 04 67 88 66 09
URL:https://montpeyroux34.com/event/le-jour-le-plus-court/
LOCATION:Eglise St Roch
CATEGORIES:Manifestations,Spectacle - Concert
END:VEVENT
BEGIN:VEVENT
DTSTART;TZID=Europe/Paris:20151220T173000
DTEND;TZID=Europe/Paris:20151220T203000
DTSTAMP:20260425T211149
CREATED:20151213T134926Z
LAST-MODIFIED:20151213T134926Z
UID:1239-1450632600-1450643400@montpeyroux34.com
SUMMARY:Grand loto de Noël
DESCRIPTION:Le comité des fêtes de Montpeyroux organisera son premier grand loto de Noël\nqui se déroulera le 20 décembre 2015 a 17h30 a la salle polyvalente
URL:https://montpeyroux34.com/event/grand-loto-de-noel/
LOCATION:SALLE POLYVALENTE\, MONTPEYROUX\, France
CATEGORIES:Manifestations
END:VEVENT
END:VCALENDAR