BEGIN:VCALENDAR
VERSION:2.0
PRODID:-//Montpeyroux - Hérault - ECPv6.15.20//NONSGML v1.0//EN
CALSCALE:GREGORIAN
METHOD:PUBLISH
X-ORIGINAL-URL:https://montpeyroux34.com
X-WR-CALDESC:Évènements pour Montpeyroux - Hérault
REFRESH-INTERVAL;VALUE=DURATION:PT1H
X-Robots-Tag:noindex
X-PUBLISHED-TTL:PT1H
BEGIN:VTIMEZONE
TZID:Europe/Paris
BEGIN:DAYLIGHT
TZOFFSETFROM:+0100
TZOFFSETTO:+0200
TZNAME:CEST
DTSTART:20150329T010000
END:DAYLIGHT
BEGIN:STANDARD
TZOFFSETFROM:+0200
TZOFFSETTO:+0100
TZNAME:CET
DTSTART:20151025T010000
END:STANDARD
BEGIN:DAYLIGHT
TZOFFSETFROM:+0100
TZOFFSETTO:+0200
TZNAME:CEST
DTSTART:20160327T010000
END:DAYLIGHT
BEGIN:STANDARD
TZOFFSETFROM:+0200
TZOFFSETTO:+0100
TZNAME:CET
DTSTART:20161030T010000
END:STANDARD
BEGIN:DAYLIGHT
TZOFFSETFROM:+0100
TZOFFSETTO:+0200
TZNAME:CEST
DTSTART:20170326T010000
END:DAYLIGHT
BEGIN:STANDARD
TZOFFSETFROM:+0200
TZOFFSETTO:+0100
TZNAME:CET
DTSTART:20171029T010000
END:STANDARD
END:VTIMEZONE
BEGIN:VEVENT
DTSTART;TZID=Europe/Paris:20160122T170000
DTEND;TZID=Europe/Paris:20160122T200000
DTSTAMP:20260425T193518
CREATED:20160122T121625Z
LAST-MODIFIED:20160122T121625Z
UID:1318-1453482000-1453492800@montpeyroux34.com
SUMMARY:Loto des Cagaraulettes
DESCRIPTION:
URL:https://montpeyroux34.com/event/loto-des-cagaraulettes/
LOCATION:Salle polyvalente\, Montpeyroux\, 34150\, France
CATEGORIES:Manifestations
END:VEVENT
BEGIN:VEVENT
DTSTART;TZID=Europe/Paris:20160122T180000
DTEND;TZID=Europe/Paris:20160122T200000
DTSTAMP:20260425T193518
CREATED:20160104T171434Z
LAST-MODIFIED:20160104T171434Z
UID:1284-1453485600-1453492800@montpeyroux34.com
SUMMARY:France Bleu Hérault
DESCRIPTION:
URL:https://montpeyroux34.com/event/france-bleu-herault/
LOCATION:Salle polyvalente\, Montpeyroux\, 34150\, France
CATEGORIES:Manifestations
END:VEVENT
BEGIN:VEVENT
DTSTART;TZID=Europe/Paris:20160123T150000
DTEND;TZID=Europe/Paris:20160123T180000
DTSTAMP:20260425T193518
CREATED:20151215T145259Z
LAST-MODIFIED:20151215T145259Z
UID:1245-1453561200-1453572000@montpeyroux34.com
SUMMARY:Gouter des ainés
DESCRIPTION:
URL:https://montpeyroux34.com/event/gouter-des-aines/
LOCATION:SALLE POLYVALENTE\, MONTPEYROUX\, France
CATEGORIES:Manifestations
END:VEVENT
END:VCALENDAR