BEGIN:VCALENDAR
VERSION:2.0
PRODID:-//Montpeyroux - Hérault - ECPv6.15.20//NONSGML v1.0//EN
CALSCALE:GREGORIAN
METHOD:PUBLISH
X-WR-CALNAME:Montpeyroux - Hérault
X-ORIGINAL-URL:https://montpeyroux34.com
X-WR-CALDESC:Évènements pour Montpeyroux - Hérault
REFRESH-INTERVAL;VALUE=DURATION:PT1H
X-Robots-Tag:noindex
X-PUBLISHED-TTL:PT1H
BEGIN:VTIMEZONE
TZID:Europe/Paris
BEGIN:DAYLIGHT
TZOFFSETFROM:+0100
TZOFFSETTO:+0200
TZNAME:CEST
DTSTART:20150329T010000
END:DAYLIGHT
BEGIN:STANDARD
TZOFFSETFROM:+0200
TZOFFSETTO:+0100
TZNAME:CET
DTSTART:20151025T010000
END:STANDARD
BEGIN:DAYLIGHT
TZOFFSETFROM:+0100
TZOFFSETTO:+0200
TZNAME:CEST
DTSTART:20160327T010000
END:DAYLIGHT
BEGIN:STANDARD
TZOFFSETFROM:+0200
TZOFFSETTO:+0100
TZNAME:CET
DTSTART:20161030T010000
END:STANDARD
BEGIN:DAYLIGHT
TZOFFSETFROM:+0100
TZOFFSETTO:+0200
TZNAME:CEST
DTSTART:20170326T010000
END:DAYLIGHT
BEGIN:STANDARD
TZOFFSETFROM:+0200
TZOFFSETTO:+0100
TZNAME:CET
DTSTART:20171029T010000
END:STANDARD
END:VTIMEZONE
BEGIN:VEVENT
DTSTART;TZID=Europe/Paris:20161003T080000
DTEND;TZID=Europe/Paris:20161007T170000
DTSTAMP:20260425T051914
CREATED:20160919T130532Z
LAST-MODIFIED:20160919T130532Z
UID:2484-1475481600-1475859600@montpeyroux34.com
SUMMARY:La semaine bleue à Montpeyroux
DESCRIPTION:
URL:https://montpeyroux34.com/event/la-semaine-bleue-a-montpeyroux/
LOCATION:Salle du Couvent\, Montpeyroux\, 34150\, France
CATEGORIES:Manifestations
END:VEVENT
BEGIN:VEVENT
DTSTART;TZID=Europe/Paris:20161016T080000
DTEND;TZID=Europe/Paris:20161016T130000
DTSTAMP:20260425T051914
CREATED:20161010T134308Z
LAST-MODIFIED:20161010T134308Z
UID:2518-1476604800-1476622800@montpeyroux34.com
SUMMARY:Vide grenier
DESCRIPTION:
URL:https://montpeyroux34.com/event/vide-grenier/
LOCATION:SALLE POLYVALENTE\, MONTPEYROUX\, France
CATEGORIES:Manifestations
END:VEVENT
BEGIN:VEVENT
DTSTART;TZID=Europe/Paris:20161023T120000
DTEND;TZID=Europe/Paris:20161023T180000
DTSTAMP:20260425T051914
CREATED:20161010T135502Z
LAST-MODIFIED:20161010T135502Z
UID:2524-1477224000-1477245600@montpeyroux34.com
SUMMARY:Les Régalades
DESCRIPTION:
URL:https://montpeyroux34.com/event/les-regalades/
LOCATION:Eglise du Barry
CATEGORIES:Manifestations
END:VEVENT
END:VCALENDAR