BEGIN:VCALENDAR
VERSION:2.0
PRODID:-//Montpeyroux - Hérault - ECPv6.15.20//NONSGML v1.0//EN
CALSCALE:GREGORIAN
METHOD:PUBLISH
X-WR-CALNAME:Montpeyroux - Hérault
X-ORIGINAL-URL:https://montpeyroux34.com
X-WR-CALDESC:Évènements pour Montpeyroux - Hérault
REFRESH-INTERVAL;VALUE=DURATION:PT1H
X-Robots-Tag:noindex
X-PUBLISHED-TTL:PT1H
BEGIN:VTIMEZONE
TZID:Europe/Paris
BEGIN:DAYLIGHT
TZOFFSETFROM:+0100
TZOFFSETTO:+0200
TZNAME:CEST
DTSTART:20160327T010000
END:DAYLIGHT
BEGIN:STANDARD
TZOFFSETFROM:+0200
TZOFFSETTO:+0100
TZNAME:CET
DTSTART:20161030T010000
END:STANDARD
BEGIN:DAYLIGHT
TZOFFSETFROM:+0100
TZOFFSETTO:+0200
TZNAME:CEST
DTSTART:20170326T010000
END:DAYLIGHT
BEGIN:STANDARD
TZOFFSETFROM:+0200
TZOFFSETTO:+0100
TZNAME:CET
DTSTART:20171029T010000
END:STANDARD
BEGIN:DAYLIGHT
TZOFFSETFROM:+0100
TZOFFSETTO:+0200
TZNAME:CEST
DTSTART:20180325T010000
END:DAYLIGHT
BEGIN:STANDARD
TZOFFSETFROM:+0200
TZOFFSETTO:+0100
TZNAME:CET
DTSTART:20181028T010000
END:STANDARD
END:VTIMEZONE
BEGIN:VEVENT
DTSTART;VALUE=DATE:20170729
DTEND;VALUE=DATE:20170807
DTSTAMP:20260424T150430
CREATED:20170630T133008Z
LAST-MODIFIED:20170630T133008Z
UID:2905-1501286400-1502063999@montpeyroux34.com
SUMMARY:Exposition de l'Atelier du Lundi
DESCRIPTION:
URL:https://montpeyroux34.com/event/exposition-de-latelier-du-lundi-2/
LOCATION:Eglise du Barry
CATEGORIES:Manifestations
END:VEVENT
BEGIN:VEVENT
DTSTART;TZID=Europe/Paris:20170826T193000
DTEND;TZID=Europe/Paris:20170826T233000
DTSTAMP:20260424T150430
CREATED:20170630T131241Z
LAST-MODIFIED:20170630T131241Z
UID:2897-1503775800-1503790200@montpeyroux34.com
SUMMARY:Illuminons Montpeyroux
DESCRIPTION:
URL:https://montpeyroux34.com/event/illuminons-montpeyroux-2/
LOCATION:herault
CATEGORIES:Manifestations
END:VEVENT
END:VCALENDAR