BEGIN:VCALENDAR
VERSION:2.0
PRODID:-//Montpeyroux - Hérault - ECPv6.15.20//NONSGML v1.0//EN
CALSCALE:GREGORIAN
METHOD:PUBLISH
X-WR-CALNAME:Montpeyroux - Hérault
X-ORIGINAL-URL:https://montpeyroux34.com
X-WR-CALDESC:Évènements pour Montpeyroux - Hérault
REFRESH-INTERVAL;VALUE=DURATION:PT1H
X-Robots-Tag:noindex
X-PUBLISHED-TTL:PT1H
BEGIN:VTIMEZONE
TZID:Europe/Paris
BEGIN:DAYLIGHT
TZOFFSETFROM:+0100
TZOFFSETTO:+0200
TZNAME:CEST
DTSTART:20160327T010000
END:DAYLIGHT
BEGIN:STANDARD
TZOFFSETFROM:+0200
TZOFFSETTO:+0100
TZNAME:CET
DTSTART:20161030T010000
END:STANDARD
BEGIN:DAYLIGHT
TZOFFSETFROM:+0100
TZOFFSETTO:+0200
TZNAME:CEST
DTSTART:20170326T010000
END:DAYLIGHT
BEGIN:STANDARD
TZOFFSETFROM:+0200
TZOFFSETTO:+0100
TZNAME:CET
DTSTART:20171029T010000
END:STANDARD
BEGIN:DAYLIGHT
TZOFFSETFROM:+0100
TZOFFSETTO:+0200
TZNAME:CEST
DTSTART:20180325T010000
END:DAYLIGHT
BEGIN:STANDARD
TZOFFSETFROM:+0200
TZOFFSETTO:+0100
TZNAME:CET
DTSTART:20181028T010000
END:STANDARD
END:VTIMEZONE
BEGIN:VEVENT
DTSTART;TZID=Europe/Paris:20170910T090000
DTEND;TZID=Europe/Paris:20170910T130000
DTSTAMP:20260424T134442
CREATED:20170828T110119Z
LAST-MODIFIED:20170828T110119Z
UID:2971-1505034000-1505048400@montpeyroux34.com
SUMMARY:Fêtes des associations
DESCRIPTION:
URL:https://montpeyroux34.com/event/fetes-des-associations/
LOCATION:Salle du Couvent\, Montpeyroux\, 34150\, France
CATEGORIES:Manifestations
END:VEVENT
BEGIN:VEVENT
DTSTART;VALUE=DATE:20170916
DTEND;VALUE=DATE:20170918
DTSTAMP:20260424T134442
CREATED:20170906T135319Z
LAST-MODIFIED:20170906T135319Z
UID:2998-1505520000-1505692799@montpeyroux34.com
SUMMARY:Journées du patrimoine
DESCRIPTION:
URL:https://montpeyroux34.com/event/journees-du-patrimoine/
LOCATION:BARRY\, HERAULT\, 34150\, France
CATEGORIES:Manifestations
END:VEVENT
BEGIN:VEVENT
DTSTART;TZID=Europe/Paris:20170923T180000
DTEND;TZID=Europe/Paris:20170923T230000
DTSTAMP:20260424T134442
CREATED:20170828T110829Z
LAST-MODIFIED:20170828T110829Z
UID:2979-1506189600-1506207600@montpeyroux34.com
SUMMARY:Concert "la Dysse Dança"
DESCRIPTION:
URL:https://montpeyroux34.com/event/concert-la-dysse-danca/
LOCATION:Rue de la Dysse\, Montpeyroux\, 34150\, France
CATEGORIES:Manifestations
END:VEVENT
BEGIN:VEVENT
DTSTART;VALUE=DATE:20170924
DTEND;VALUE=DATE:20170925
DTSTAMP:20260424T134442
CREATED:20170921T073341Z
LAST-MODIFIED:20170921T073357Z
UID:3025-1506211200-1506297599@montpeyroux34.com
SUMMARY:Duo des Lavagnes
DESCRIPTION:
URL:https://montpeyroux34.com/event/duo-des-lavangnes/
LOCATION:Montpeyroux\, herault\, 34150\, France
CATEGORIES:Manifestations
END:VEVENT
END:VCALENDAR