BEGIN:VCALENDAR
VERSION:2.0
PRODID:-//Montpeyroux - Hérault - ECPv6.15.20//NONSGML v1.0//EN
CALSCALE:GREGORIAN
METHOD:PUBLISH
X-ORIGINAL-URL:https://montpeyroux34.com
X-WR-CALDESC:Évènements pour Montpeyroux - Hérault
REFRESH-INTERVAL;VALUE=DURATION:PT1H
X-Robots-Tag:noindex
X-PUBLISHED-TTL:PT1H
BEGIN:VTIMEZONE
TZID:Europe/Paris
BEGIN:DAYLIGHT
TZOFFSETFROM:+0100
TZOFFSETTO:+0200
TZNAME:CEST
DTSTART:20160327T010000
END:DAYLIGHT
BEGIN:STANDARD
TZOFFSETFROM:+0200
TZOFFSETTO:+0100
TZNAME:CET
DTSTART:20161030T010000
END:STANDARD
BEGIN:DAYLIGHT
TZOFFSETFROM:+0100
TZOFFSETTO:+0200
TZNAME:CEST
DTSTART:20170326T010000
END:DAYLIGHT
BEGIN:STANDARD
TZOFFSETFROM:+0200
TZOFFSETTO:+0100
TZNAME:CET
DTSTART:20171029T010000
END:STANDARD
BEGIN:DAYLIGHT
TZOFFSETFROM:+0100
TZOFFSETTO:+0200
TZNAME:CEST
DTSTART:20180325T010000
END:DAYLIGHT
BEGIN:STANDARD
TZOFFSETFROM:+0200
TZOFFSETTO:+0100
TZNAME:CET
DTSTART:20181028T010000
END:STANDARD
END:VTIMEZONE
BEGIN:VEVENT
DTSTART;VALUE=DATE:20171203
DTEND;VALUE=DATE:20171204
DTSTAMP:20260424T090355
CREATED:20171105T131201Z
LAST-MODIFIED:20171105T131201Z
UID:3133-1512259200-1512345599@montpeyroux34.com
SUMMARY:Marché de Noël
DESCRIPTION:
URL:https://montpeyroux34.com/event/marche-de-noel-3/
LOCATION:Place du Couvent\, HERAULT\, 34150\, France
CATEGORIES:Manifestations
END:VEVENT
BEGIN:VEVENT
DTSTART;TZID=Europe/Paris:20171214T173000
DTEND;TZID=Europe/Paris:20171214T190000
DTSTAMP:20260424T090355
CREATED:20171024T083747Z
LAST-MODIFIED:20171024T083747Z
UID:3107-1513272600-1513278000@montpeyroux34.com
SUMMARY:Ludothèque
DESCRIPTION:
URL:https://montpeyroux34.com/event/ludotheque-4/
LOCATION:Salle polyvalente\, Montpeyroux\, 34150\, France
CATEGORIES:Manifestations
END:VEVENT
BEGIN:VEVENT
DTSTART;TZID=Europe/Paris:20171217T150000
DTEND;TZID=Europe/Paris:20171217T190000
DTSTAMP:20260424T090355
CREATED:20171127T095706Z
LAST-MODIFIED:20171127T095706Z
UID:3184-1513522800-1513537200@montpeyroux34.com
SUMMARY:Super loto de Noël
DESCRIPTION:
URL:https://montpeyroux34.com/event/super-loto-de-noel/
LOCATION:SALLE POLYVALENTE\, MONTPEYROUX\, France
CATEGORIES:Manifestations
END:VEVENT
END:VCALENDAR