BEGIN:VCALENDAR
VERSION:2.0
PRODID:-//Montpeyroux - Hérault - ECPv6.15.20//NONSGML v1.0//EN
CALSCALE:GREGORIAN
METHOD:PUBLISH
X-ORIGINAL-URL:https://montpeyroux34.com
X-WR-CALDESC:Évènements pour Montpeyroux - Hérault
REFRESH-INTERVAL;VALUE=DURATION:PT1H
X-Robots-Tag:noindex
X-PUBLISHED-TTL:PT1H
BEGIN:VTIMEZONE
TZID:Europe/Paris
BEGIN:DAYLIGHT
TZOFFSETFROM:+0100
TZOFFSETTO:+0200
TZNAME:CEST
DTSTART:20170326T010000
END:DAYLIGHT
BEGIN:STANDARD
TZOFFSETFROM:+0200
TZOFFSETTO:+0100
TZNAME:CET
DTSTART:20171029T010000
END:STANDARD
BEGIN:DAYLIGHT
TZOFFSETFROM:+0100
TZOFFSETTO:+0200
TZNAME:CEST
DTSTART:20180325T010000
END:DAYLIGHT
BEGIN:STANDARD
TZOFFSETFROM:+0200
TZOFFSETTO:+0100
TZNAME:CET
DTSTART:20181028T010000
END:STANDARD
BEGIN:DAYLIGHT
TZOFFSETFROM:+0100
TZOFFSETTO:+0200
TZNAME:CEST
DTSTART:20190331T010000
END:DAYLIGHT
BEGIN:STANDARD
TZOFFSETFROM:+0200
TZOFFSETTO:+0100
TZNAME:CET
DTSTART:20191027T010000
END:STANDARD
END:VTIMEZONE
BEGIN:VEVENT
DTSTART;VALUE=DATE:20180331
DTEND;VALUE=DATE:20180402
DTSTAMP:20260424T033408
CREATED:20180126T173413Z
LAST-MODIFIED:20180126T173413Z
UID:3276-1522454400-1522627199@montpeyroux34.com
SUMMARY:Contre la montre de l'Héraultaise
DESCRIPTION:
URL:https://montpeyroux34.com/event/contre-la-montre-de-lheraultaise/
LOCATION:Montpeyroux\, herault\, 34150\, France
CATEGORIES:Manifestations
END:VEVENT
BEGIN:VEVENT
DTSTART;TZID=Europe/Paris:20180405T173000
DTEND;TZID=Europe/Paris:20180405T190000
DTSTAMP:20260424T033408
CREATED:20180126T171519Z
LAST-MODIFIED:20180126T171519Z
UID:3259-1522949400-1522954800@montpeyroux34.com
SUMMARY:Temps ludothèque
DESCRIPTION:
URL:https://montpeyroux34.com/event/temps-ludotheque-4/
LOCATION:herault
CATEGORIES:Manifestations
END:VEVENT
BEGIN:VEVENT
DTSTART;TZID=Europe/Paris:20180414T140000
DTEND;TZID=Europe/Paris:20180414T170000
DTSTAMP:20260424T033408
CREATED:20180411T133826Z
LAST-MODIFIED:20180411T133826Z
UID:3361-1523714400-1523725200@montpeyroux34.com
SUMMARY:Carnaval du foyer rural
DESCRIPTION:
URL:https://montpeyroux34.com/event/carnaval-du-foyer-rural-2/
LOCATION:Montpeyroux\, herault\, 34150\, France
CATEGORIES:Manifestations
END:VEVENT
BEGIN:VEVENT
DTSTART;TZID=Europe/Paris:20180416T080000
DTEND;TZID=Europe/Paris:20180423T170000
DTSTAMP:20260424T033408
CREATED:20180420T162918Z
LAST-MODIFIED:20180420T162918Z
UID:3393-1523865600-1524502800@montpeyroux34.com
SUMMARY:Exposition Atelier du Lundi
DESCRIPTION:
URL:https://montpeyroux34.com/event/exposition-atelier-du-lundi-2/
LOCATION:Salle du Couvent\, Montpeyroux\, 34150\, France
CATEGORIES:Manifestations
END:VEVENT
BEGIN:VEVENT
DTSTART;TZID=Europe/Paris:20180419T173000
DTEND;TZID=Europe/Paris:20180419T190000
DTSTAMP:20260424T033408
CREATED:20180126T171612Z
LAST-MODIFIED:20180126T171612Z
UID:3261-1524159000-1524164400@montpeyroux34.com
SUMMARY:Temps ludothèque
DESCRIPTION:
URL:https://montpeyroux34.com/event/temps-ludotheque-5/
LOCATION:SALLE POLYVALENTE\, MONTPEYROUX\, France
CATEGORIES:Manifestations
END:VEVENT
BEGIN:VEVENT
DTSTART;TZID=Europe/Paris:20180428T090000
DTEND;TZID=Europe/Paris:20180428T130000
DTSTAMP:20260424T033408
CREATED:20180319T154409Z
LAST-MODIFIED:20180319T154409Z
UID:3331-1524906000-1524920400@montpeyroux34.com
SUMMARY:2ème bourse aux plantes
DESCRIPTION:
URL:https://montpeyroux34.com/event/2eme-bourse-aux-plantes/
LOCATION:Sous les Halles
CATEGORIES:Manifestations
END:VEVENT
END:VCALENDAR