BEGIN:VCALENDAR
VERSION:2.0
PRODID:-//Montpeyroux - Hérault - ECPv6.15.20//NONSGML v1.0//EN
CALSCALE:GREGORIAN
METHOD:PUBLISH
X-WR-CALNAME:Montpeyroux - Hérault
X-ORIGINAL-URL:https://montpeyroux34.com
X-WR-CALDESC:Évènements pour Montpeyroux - Hérault
REFRESH-INTERVAL;VALUE=DURATION:PT1H
X-Robots-Tag:noindex
X-PUBLISHED-TTL:PT1H
BEGIN:VTIMEZONE
TZID:Europe/Paris
BEGIN:DAYLIGHT
TZOFFSETFROM:+0100
TZOFFSETTO:+0200
TZNAME:CEST
DTSTART:20170326T010000
END:DAYLIGHT
BEGIN:STANDARD
TZOFFSETFROM:+0200
TZOFFSETTO:+0100
TZNAME:CET
DTSTART:20171029T010000
END:STANDARD
BEGIN:DAYLIGHT
TZOFFSETFROM:+0100
TZOFFSETTO:+0200
TZNAME:CEST
DTSTART:20180325T010000
END:DAYLIGHT
BEGIN:STANDARD
TZOFFSETFROM:+0200
TZOFFSETTO:+0100
TZNAME:CET
DTSTART:20181028T010000
END:STANDARD
BEGIN:DAYLIGHT
TZOFFSETFROM:+0100
TZOFFSETTO:+0200
TZNAME:CEST
DTSTART:20190331T010000
END:DAYLIGHT
BEGIN:STANDARD
TZOFFSETFROM:+0200
TZOFFSETTO:+0100
TZNAME:CET
DTSTART:20191027T010000
END:STANDARD
END:VTIMEZONE
BEGIN:VEVENT
DTSTART;TZID=Europe/Paris:20180503T173000
DTEND;TZID=Europe/Paris:20180503T190000
DTSTAMP:20260424T022131
CREATED:20180126T171707Z
LAST-MODIFIED:20180126T171707Z
UID:3263-1525368600-1525374000@montpeyroux34.com
SUMMARY:Temps ludothèque
DESCRIPTION:
URL:https://montpeyroux34.com/event/temps-ludotheque-6/
LOCATION:SALLE POLYVALENTE\, MONTPEYROUX\, France
CATEGORIES:Manifestations
END:VEVENT
BEGIN:VEVENT
DTSTART;TZID=Europe/Paris:20180517T173000
DTEND;TZID=Europe/Paris:20180517T190000
DTSTAMP:20260424T022131
CREATED:20180126T171758Z
LAST-MODIFIED:20180126T171758Z
UID:3265-1526578200-1526583600@montpeyroux34.com
SUMMARY:Temps ludothèque
DESCRIPTION:
URL:https://montpeyroux34.com/event/temps-ludotheque-7/
LOCATION:SALLE POLYVALENTE\, MONTPEYROUX\, France
CATEGORIES:Manifestations
END:VEVENT
BEGIN:VEVENT
DTSTART;TZID=Europe/Paris:20180518T180000
DTEND;TZID=Europe/Paris:20180521T180000
DTSTAMP:20260424T022131
CREATED:20180510T083051Z
LAST-MODIFIED:20180510T083051Z
UID:3437-1526666400-1526925600@montpeyroux34.com
SUMMARY:Montpeyroux en fête
DESCRIPTION:
URL:https://montpeyroux34.com/event/montpeyroux-en-fete-3/
LOCATION:Parking du Rosaire
CATEGORIES:Manifestations
END:VEVENT
BEGIN:VEVENT
DTSTART;TZID=Europe/Paris:20180531T173000
DTEND;TZID=Europe/Paris:20180531T190000
DTSTAMP:20260424T022131
CREATED:20180126T171842Z
LAST-MODIFIED:20180126T171842Z
UID:3267-1527787800-1527793200@montpeyroux34.com
SUMMARY:Temps ludothèque
DESCRIPTION:
URL:https://montpeyroux34.com/event/temps-ludotheque-8/
LOCATION:SALLE POLYVALENTE\, MONTPEYROUX\, France
CATEGORIES:Manifestations
END:VEVENT
END:VCALENDAR