BEGIN:VCALENDAR
VERSION:2.0
PRODID:-//Montpeyroux - Hérault - ECPv6.15.20//NONSGML v1.0//EN
CALSCALE:GREGORIAN
METHOD:PUBLISH
X-ORIGINAL-URL:https://montpeyroux34.com
X-WR-CALDESC:Évènements pour Montpeyroux - Hérault
REFRESH-INTERVAL;VALUE=DURATION:PT1H
X-Robots-Tag:noindex
X-PUBLISHED-TTL:PT1H
BEGIN:VTIMEZONE
TZID:Europe/Paris
BEGIN:DAYLIGHT
TZOFFSETFROM:+0100
TZOFFSETTO:+0200
TZNAME:CEST
DTSTART:20170326T010000
END:DAYLIGHT
BEGIN:STANDARD
TZOFFSETFROM:+0200
TZOFFSETTO:+0100
TZNAME:CET
DTSTART:20171029T010000
END:STANDARD
BEGIN:DAYLIGHT
TZOFFSETFROM:+0100
TZOFFSETTO:+0200
TZNAME:CEST
DTSTART:20180325T010000
END:DAYLIGHT
BEGIN:STANDARD
TZOFFSETFROM:+0200
TZOFFSETTO:+0100
TZNAME:CET
DTSTART:20181028T010000
END:STANDARD
BEGIN:DAYLIGHT
TZOFFSETFROM:+0100
TZOFFSETTO:+0200
TZNAME:CEST
DTSTART:20190331T010000
END:DAYLIGHT
BEGIN:STANDARD
TZOFFSETFROM:+0200
TZOFFSETTO:+0100
TZNAME:CET
DTSTART:20191027T010000
END:STANDARD
END:VTIMEZONE
BEGIN:VEVENT
DTSTART;TZID=Europe/Paris:20181005T180000
DTEND;TZID=Europe/Paris:20181007T180000
DTSTAMP:20260423T193321
CREATED:20181005T112722Z
LAST-MODIFIED:20181005T112722Z
UID:3940-1538762400-1538935200@montpeyroux34.com
SUMMARY:50ème anniversaire de la cuvée Or
DESCRIPTION:
URL:https://montpeyroux34.com/event/50eme-anniversaire-de-la-cuvee-or/
LOCATION:Cave coopérative\, montpeyroux\, 34150\, France
CATEGORIES:Manifestations
END:VEVENT
BEGIN:VEVENT
DTSTART;TZID=Europe/Paris:20181008T143000
DTEND;TZID=Europe/Paris:20181008T170000
DTSTAMP:20260423T193321
CREATED:20180924T042043Z
LAST-MODIFIED:20180924T042043Z
UID:3855-1539009000-1539018000@montpeyroux34.com
SUMMARY:Conférence-débat semaine bleue
DESCRIPTION:
URL:https://montpeyroux34.com/event/conference-debat-semaine-bleue/
LOCATION:Salle du Couvent\, Montpeyroux\, 34150\, France
CATEGORIES:Manifestations
END:VEVENT
BEGIN:VEVENT
DTSTART;VALUE=DATE:20181013
DTEND;VALUE=DATE:20181014
DTSTAMP:20260423T193321
CREATED:20181005T111750Z
LAST-MODIFIED:20181005T111750Z
UID:3934-1539388800-1539475199@montpeyroux34.com
SUMMARY:Fête de la science
DESCRIPTION:
URL:https://montpeyroux34.com/event/fete-de-la-science/
LOCATION:Eglise du Barry
CATEGORIES:Manifestations
END:VEVENT
BEGIN:VEVENT
DTSTART;TZID=Europe/Paris:20181014T090000
DTEND;TZID=Europe/Paris:20181014T140000
DTSTAMP:20260423T193321
CREATED:20180919T062458Z
LAST-MODIFIED:20180919T062458Z
UID:3841-1539507600-1539525600@montpeyroux34.com
SUMMARY:Vide grenier des Cagaraulettes
DESCRIPTION:
URL:https://montpeyroux34.com/event/vide-grenier-des-cagaraulettes-2/
LOCATION:Place du Couvent\, HERAULT\, 34150\, France
CATEGORIES:Manifestations
END:VEVENT
END:VCALENDAR