BEGIN:VCALENDAR
VERSION:2.0
PRODID:-//Montpeyroux - Hérault - ECPv6.15.20//NONSGML v1.0//EN
CALSCALE:GREGORIAN
METHOD:PUBLISH
X-ORIGINAL-URL:https://montpeyroux34.com
X-WR-CALDESC:Évènements pour Montpeyroux - Hérault
REFRESH-INTERVAL;VALUE=DURATION:PT1H
X-Robots-Tag:noindex
X-PUBLISHED-TTL:PT1H
BEGIN:VTIMEZONE
TZID:Europe/Paris
BEGIN:DAYLIGHT
TZOFFSETFROM:+0100
TZOFFSETTO:+0200
TZNAME:CEST
DTSTART:20180325T010000
END:DAYLIGHT
BEGIN:STANDARD
TZOFFSETFROM:+0200
TZOFFSETTO:+0100
TZNAME:CET
DTSTART:20181028T010000
END:STANDARD
BEGIN:DAYLIGHT
TZOFFSETFROM:+0100
TZOFFSETTO:+0200
TZNAME:CEST
DTSTART:20190331T010000
END:DAYLIGHT
BEGIN:STANDARD
TZOFFSETFROM:+0200
TZOFFSETTO:+0100
TZNAME:CET
DTSTART:20191027T010000
END:STANDARD
BEGIN:DAYLIGHT
TZOFFSETFROM:+0100
TZOFFSETTO:+0200
TZNAME:CEST
DTSTART:20200329T010000
END:DAYLIGHT
BEGIN:STANDARD
TZOFFSETFROM:+0200
TZOFFSETTO:+0100
TZNAME:CET
DTSTART:20201025T010000
END:STANDARD
END:VTIMEZONE
BEGIN:VEVENT
DTSTART;TZID=Europe/Paris:20190712T203000
DTEND;TZID=Europe/Paris:20190712T233000
DTSTAMP:20260423T060849
CREATED:20190627T141646Z
LAST-MODIFIED:20190627T141646Z
UID:4682-1562963400-1562974200@montpeyroux34.com
SUMMARY:Venez découvrir la Lune
DESCRIPTION:
URL:https://montpeyroux34.com/event/venez-decouvrir-la-lune/
LOCATION:herault
CATEGORIES:Manifestations
END:VEVENT
BEGIN:VEVENT
DTSTART;TZID=Europe/Paris:20190713T180000
DTEND;TZID=Europe/Paris:20190713T233000
DTSTAMP:20260423T060849
CREATED:20190204T103449Z
LAST-MODIFIED:20190204T103449Z
UID:4343-1563040800-1563060600@montpeyroux34.com
SUMMARY:Fête du 14 juillet
DESCRIPTION:
URL:https://montpeyroux34.com/event/fete-du-14-juillet-3/
LOCATION:Salle du Couvent\, Montpeyroux\, 34150\, France
CATEGORIES:Manifestations
END:VEVENT
BEGIN:VEVENT
DTSTART;VALUE=DATE:20190715
DTEND;VALUE=DATE:20190722
DTSTAMP:20260423T060849
CREATED:20190715T191008Z
LAST-MODIFIED:20190715T191008Z
UID:4715-1563148800-1563753599@montpeyroux34.com
SUMMARY:Exposition Atelier du Lundi
DESCRIPTION:
URL:https://montpeyroux34.com/event/exposition-atelier-du-lundi-3/
LOCATION:Salle du Couvent\, Montpeyroux\, 34150\, France
CATEGORIES:Manifestations
END:VEVENT
BEGIN:VEVENT
DTSTART;TZID=Europe/Paris:20190727T200000
DTEND;TZID=Europe/Paris:20190727T233000
DTSTAMP:20260423T060849
CREATED:20190718T072909Z
LAST-MODIFIED:20190718T072909Z
UID:4720-1564257600-1564270200@montpeyroux34.com
SUMMARY:22 ème fête du Barry
DESCRIPTION:
URL:https://montpeyroux34.com/event/22-eme-fete-du-barry/
LOCATION:BARRY\, HERAULT\, 34150\, France
CATEGORIES:Manifestations
END:VEVENT
END:VCALENDAR