BEGIN:VCALENDAR
VERSION:2.0
PRODID:-//Montpeyroux - Hérault - ECPv6.15.20//NONSGML v1.0//EN
CALSCALE:GREGORIAN
METHOD:PUBLISH
X-WR-CALNAME:Montpeyroux - Hérault
X-ORIGINAL-URL:https://montpeyroux34.com
X-WR-CALDESC:Évènements pour Montpeyroux - Hérault
REFRESH-INTERVAL;VALUE=DURATION:PT1H
X-Robots-Tag:noindex
X-PUBLISHED-TTL:PT1H
BEGIN:VTIMEZONE
TZID:Europe/Paris
BEGIN:DAYLIGHT
TZOFFSETFROM:+0100
TZOFFSETTO:+0200
TZNAME:CEST
DTSTART:20180325T010000
END:DAYLIGHT
BEGIN:STANDARD
TZOFFSETFROM:+0200
TZOFFSETTO:+0100
TZNAME:CET
DTSTART:20181028T010000
END:STANDARD
BEGIN:DAYLIGHT
TZOFFSETFROM:+0100
TZOFFSETTO:+0200
TZNAME:CEST
DTSTART:20190331T010000
END:DAYLIGHT
BEGIN:STANDARD
TZOFFSETFROM:+0200
TZOFFSETTO:+0100
TZNAME:CET
DTSTART:20191027T010000
END:STANDARD
BEGIN:DAYLIGHT
TZOFFSETFROM:+0100
TZOFFSETTO:+0200
TZNAME:CEST
DTSTART:20200329T010000
END:DAYLIGHT
BEGIN:STANDARD
TZOFFSETFROM:+0200
TZOFFSETTO:+0100
TZNAME:CET
DTSTART:20201025T010000
END:STANDARD
END:VTIMEZONE
BEGIN:VEVENT
DTSTART;TZID=Europe/Paris:20191011T170000
DTEND;TZID=Europe/Paris:20191011T210000
DTSTAMP:20260423T012533
CREATED:20190824T101421Z
LAST-MODIFIED:20190930T142402Z
UID:4824-1570813200-1570827600@montpeyroux34.com
SUMMARY:50 ans du club spéléo\, soirée spéciale Montpeyrousiens
DESCRIPTION:
URL:https://montpeyroux34.com/event/50-ans-du-club-speleo-soiree-montpeyrousiens/
LOCATION:Salle du Couvent\, Montpeyroux\, 34150\, France
CATEGORIES:Manifestations
ORGANIZER;CN="Club sp%C3%A9l%C3%A9o de Montpeyroux %3A GSM":MAILTO:gsm34@outlook.fr
END:VEVENT
BEGIN:VEVENT
DTSTART;TZID=Europe/Paris:20191012T140000
DTEND;TZID=Europe/Paris:20191012T190000
DTSTAMP:20260423T012533
CREATED:20191009T190850Z
LAST-MODIFIED:20191009T190850Z
UID:4936-1570888800-1570906800@montpeyroux34.com
SUMMARY:Fête de la science à Montpeyroux
DESCRIPTION:
URL:https://montpeyroux34.com/event/fete-de-la-science-a-montpeyroux/
LOCATION:Eglise du Barry
CATEGORIES:Manifestations
END:VEVENT
END:VCALENDAR