BEGIN:VCALENDAR
VERSION:2.0
PRODID:-//Montpeyroux - Hérault - ECPv6.15.20//NONSGML v1.0//EN
CALSCALE:GREGORIAN
METHOD:PUBLISH
X-ORIGINAL-URL:https://montpeyroux34.com
X-WR-CALDESC:Évènements pour Montpeyroux - Hérault
REFRESH-INTERVAL;VALUE=DURATION:PT1H
X-Robots-Tag:noindex
X-PUBLISHED-TTL:PT1H
BEGIN:VTIMEZONE
TZID:Europe/Paris
BEGIN:DAYLIGHT
TZOFFSETFROM:+0100
TZOFFSETTO:+0200
TZNAME:CEST
DTSTART:20190331T010000
END:DAYLIGHT
BEGIN:STANDARD
TZOFFSETFROM:+0200
TZOFFSETTO:+0100
TZNAME:CET
DTSTART:20191027T010000
END:STANDARD
BEGIN:DAYLIGHT
TZOFFSETFROM:+0100
TZOFFSETTO:+0200
TZNAME:CEST
DTSTART:20200329T010000
END:DAYLIGHT
BEGIN:STANDARD
TZOFFSETFROM:+0200
TZOFFSETTO:+0100
TZNAME:CET
DTSTART:20201025T010000
END:STANDARD
BEGIN:DAYLIGHT
TZOFFSETFROM:+0100
TZOFFSETTO:+0200
TZNAME:CEST
DTSTART:20210328T010000
END:DAYLIGHT
BEGIN:STANDARD
TZOFFSETFROM:+0200
TZOFFSETTO:+0100
TZNAME:CET
DTSTART:20211031T010000
END:STANDARD
END:VTIMEZONE
BEGIN:VEVENT
DTSTART;VALUE=DATE:20200306
DTEND;VALUE=DATE:20200308
DTSTAMP:20260422T175556
CREATED:20200228T055346Z
LAST-MODIFIED:20200228T055346Z
UID:5192-1583452800-1583625599@montpeyroux34.com
SUMMARY:Climathon de Montpeyroux
DESCRIPTION:
URL:https://montpeyroux34.com/event/climathon-de-montpeyroux/
LOCATION:Eglise du Barry
CATEGORIES:Manifestations
END:VEVENT
BEGIN:VEVENT
DTSTART;TZID=Europe/Paris:20200321T200000
DTEND;TZID=Europe/Paris:20200321T233000
DTSTAMP:20260422T175556
CREATED:20200227T114626Z
LAST-MODIFIED:20200316T121555Z
UID:5171-1584820800-1584833400@montpeyroux34.com
SUMMARY:Repas et Bal Masqué ANNULE
DESCRIPTION:
URL:https://montpeyroux34.com/event/repas-et-bal-masque/
LOCATION:SALLE POLYVALENTE\, MONTPEYROUX\, France
CATEGORIES:Manifestations
END:VEVENT
BEGIN:VEVENT
DTSTART;TZID=Europe/Paris:20200328T140000
DTEND;TZID=Europe/Paris:20200328T180000
DTSTAMP:20260422T175556
CREATED:20200227T115251Z
LAST-MODIFIED:20200316T121524Z
UID:5174-1585404000-1585418400@montpeyroux34.com
SUMMARY:Carnaval 2020 ANNULE
DESCRIPTION:
URL:https://montpeyroux34.com/event/carnaval-2020/
LOCATION:Montpeyroux\, herault\, 34150\, France
CATEGORIES:Manifestations
END:VEVENT
END:VCALENDAR