BEGIN:VCALENDAR
VERSION:2.0
PRODID:-//Montpeyroux - Hérault - ECPv6.15.20//NONSGML v1.0//EN
CALSCALE:GREGORIAN
METHOD:PUBLISH
X-WR-CALNAME:Montpeyroux - Hérault
X-ORIGINAL-URL:https://montpeyroux34.com
X-WR-CALDESC:Évènements pour Montpeyroux - Hérault
REFRESH-INTERVAL;VALUE=DURATION:PT1H
X-Robots-Tag:noindex
X-PUBLISHED-TTL:PT1H
BEGIN:VTIMEZONE
TZID:Europe/Paris
BEGIN:DAYLIGHT
TZOFFSETFROM:+0100
TZOFFSETTO:+0200
TZNAME:CEST
DTSTART:20200329T010000
END:DAYLIGHT
BEGIN:STANDARD
TZOFFSETFROM:+0200
TZOFFSETTO:+0100
TZNAME:CET
DTSTART:20201025T010000
END:STANDARD
BEGIN:DAYLIGHT
TZOFFSETFROM:+0100
TZOFFSETTO:+0200
TZNAME:CEST
DTSTART:20210328T010000
END:DAYLIGHT
BEGIN:STANDARD
TZOFFSETFROM:+0200
TZOFFSETTO:+0100
TZNAME:CET
DTSTART:20211031T010000
END:STANDARD
BEGIN:DAYLIGHT
TZOFFSETFROM:+0100
TZOFFSETTO:+0200
TZNAME:CEST
DTSTART:20220327T010000
END:DAYLIGHT
BEGIN:STANDARD
TZOFFSETFROM:+0200
TZOFFSETTO:+0100
TZNAME:CET
DTSTART:20221030T010000
END:STANDARD
END:VTIMEZONE
BEGIN:VEVENT
DTSTART;TZID=Europe/Paris:20210805T190000
DTEND;TZID=Europe/Paris:20210805T230000
DTSTAMP:20260421T173819
CREATED:20210707T044339Z
LAST-MODIFIED:20210707T044339Z
UID:6751-1628190000-1628204400@montpeyroux34.com
SUMMARY:Jeudi vin
DESCRIPTION:
URL:https://montpeyroux34.com/event/jeudi-vin-3/
LOCATION:Cour du couvent
CATEGORIES:Manifestations
END:VEVENT
BEGIN:VEVENT
DTSTART;TZID=Europe/Paris:20210820T170000
DTEND;TZID=Europe/Paris:20210820T230000
DTSTAMP:20260421T173819
CREATED:20210809T061614Z
LAST-MODIFIED:20210809T061614Z
UID:6804-1629478800-1629500400@montpeyroux34.com
SUMMARY:Tournée Hérault Vacances
DESCRIPTION:
URL:https://montpeyroux34.com/event/tournee-herault-vacances/
LOCATION:Cour du couvent
CATEGORIES:Manifestations
END:VEVENT
END:VCALENDAR