BEGIN:VCALENDAR
VERSION:2.0
PRODID:-//Montpeyroux - Hérault - ECPv6.15.20//NONSGML v1.0//EN
CALSCALE:GREGORIAN
METHOD:PUBLISH
X-ORIGINAL-URL:https://montpeyroux34.com
X-WR-CALDESC:Évènements pour Montpeyroux - Hérault
REFRESH-INTERVAL;VALUE=DURATION:PT1H
X-Robots-Tag:noindex
X-PUBLISHED-TTL:PT1H
BEGIN:VTIMEZONE
TZID:Europe/Paris
BEGIN:DAYLIGHT
TZOFFSETFROM:+0100
TZOFFSETTO:+0200
TZNAME:CEST
DTSTART:20200329T010000
END:DAYLIGHT
BEGIN:STANDARD
TZOFFSETFROM:+0200
TZOFFSETTO:+0100
TZNAME:CET
DTSTART:20201025T010000
END:STANDARD
BEGIN:DAYLIGHT
TZOFFSETFROM:+0100
TZOFFSETTO:+0200
TZNAME:CEST
DTSTART:20210328T010000
END:DAYLIGHT
BEGIN:STANDARD
TZOFFSETFROM:+0200
TZOFFSETTO:+0100
TZNAME:CET
DTSTART:20211031T010000
END:STANDARD
BEGIN:DAYLIGHT
TZOFFSETFROM:+0100
TZOFFSETTO:+0200
TZNAME:CEST
DTSTART:20220327T010000
END:DAYLIGHT
BEGIN:STANDARD
TZOFFSETFROM:+0200
TZOFFSETTO:+0100
TZNAME:CET
DTSTART:20221030T010000
END:STANDARD
END:VTIMEZONE
BEGIN:VEVENT
DTSTART;TZID=Europe/Paris:20211128T153000
DTEND;TZID=Europe/Paris:20211128T190000
DTSTAMP:20260421T125421
CREATED:20211104T191055Z
LAST-MODIFIED:20211104T191055Z
UID:7151-1638113400-1638126000@montpeyroux34.com
SUMMARY:Loto AME
DESCRIPTION:
URL:https://montpeyroux34.com/event/loto-ame/
LOCATION:SALLE POLYVALENTE\, MONTPEYROUX\, France
CATEGORIES:Manifestations
END:VEVENT
END:VCALENDAR