BEGIN:VCALENDAR
VERSION:2.0
PRODID:-//Montpeyroux - Hérault - ECPv6.15.20//NONSGML v1.0//EN
CALSCALE:GREGORIAN
METHOD:PUBLISH
X-ORIGINAL-URL:https://montpeyroux34.com
X-WR-CALDESC:Évènements pour Montpeyroux - Hérault
REFRESH-INTERVAL;VALUE=DURATION:PT1H
X-Robots-Tag:noindex
X-PUBLISHED-TTL:PT1H
BEGIN:VTIMEZONE
TZID:Europe/Paris
BEGIN:DAYLIGHT
TZOFFSETFROM:+0100
TZOFFSETTO:+0200
TZNAME:CEST
DTSTART:20210328T010000
END:DAYLIGHT
BEGIN:STANDARD
TZOFFSETFROM:+0200
TZOFFSETTO:+0100
TZNAME:CET
DTSTART:20211031T010000
END:STANDARD
BEGIN:DAYLIGHT
TZOFFSETFROM:+0100
TZOFFSETTO:+0200
TZNAME:CEST
DTSTART:20220327T010000
END:DAYLIGHT
BEGIN:STANDARD
TZOFFSETFROM:+0200
TZOFFSETTO:+0100
TZNAME:CET
DTSTART:20221030T010000
END:STANDARD
BEGIN:DAYLIGHT
TZOFFSETFROM:+0100
TZOFFSETTO:+0200
TZNAME:CEST
DTSTART:20230326T010000
END:DAYLIGHT
BEGIN:STANDARD
TZOFFSETFROM:+0200
TZOFFSETTO:+0100
TZNAME:CET
DTSTART:20231029T010000
END:STANDARD
END:VTIMEZONE
BEGIN:VEVENT
DTSTART;TZID=Europe/Paris:20220706T153000
DTEND;TZID=Europe/Paris:20220706T170000
DTSTAMP:20260421T021126
CREATED:20220613T145311Z
LAST-MODIFIED:20220613T145311Z
UID:7727-1657121400-1657126800@montpeyroux34.com
SUMMARY:Atelier lecture Kitsune
DESCRIPTION:
URL:https://montpeyroux34.com/event/atelier-lecture-kitsune/
LOCATION:Médiathèque\, Montpeyroux\, 34150
CATEGORIES:Manifestations
END:VEVENT
BEGIN:VEVENT
DTSTART;TZID=Europe/Paris:20220713T190000
DTEND;TZID=Europe/Paris:20220713T233000
DTSTAMP:20260421T021126
CREATED:20220613T145630Z
LAST-MODIFIED:20220613T145630Z
UID:7732-1657738800-1657755000@montpeyroux34.com
SUMMARY:Repas et feu d'artifice
DESCRIPTION:
URL:https://montpeyroux34.com/event/repas-et-feu-dartifice/
LOCATION:Montpeyroux\, herault\, 34150\, France
CATEGORIES:Manifestations
END:VEVENT
BEGIN:VEVENT
DTSTART;TZID=Europe/Paris:20220718T160000
DTEND;TZID=Europe/Paris:20220728T193000
DTSTAMP:20260421T021126
CREATED:20220717T043953Z
LAST-MODIFIED:20220717T043953Z
UID:7791-1658160000-1659036600@montpeyroux34.com
SUMMARY:EXPOSITION ART TENTION
DESCRIPTION:
URL:https://montpeyroux34.com/event/exposition-art-tention-5/
LOCATION:SALLE POLYVALENTE\, MONTPEYROUX\, France
CATEGORIES:Manifestations
END:VEVENT
BEGIN:VEVENT
DTSTART;TZID=Europe/Paris:20220721T190000
DTEND;TZID=Europe/Paris:20220721T230000
DTSTAMP:20260421T021126
CREATED:20220717T063051Z
LAST-MODIFIED:20220717T063051Z
UID:7796-1658430000-1658444400@montpeyroux34.com
SUMMARY:JEUDI VIN
DESCRIPTION:
URL:https://montpeyroux34.com/event/jeudi-vin-4/
LOCATION:Cour du couvent
CATEGORIES:Manifestations
END:VEVENT
BEGIN:VEVENT
DTSTART;TZID=Europe/Paris:20220728T190000
DTEND;TZID=Europe/Paris:20220728T230000
DTSTAMP:20260421T021126
CREATED:20220717T063148Z
LAST-MODIFIED:20220717T063148Z
UID:7799-1659034800-1659049200@montpeyroux34.com
SUMMARY:JEUDI VIN
DESCRIPTION:
URL:https://montpeyroux34.com/event/jeudi-vin-5/
LOCATION:Cour du couvent
CATEGORIES:Manifestations
END:VEVENT
END:VCALENDAR