BEGIN:VCALENDAR
VERSION:2.0
PRODID:-//Montpeyroux - Hérault - ECPv6.15.20//NONSGML v1.0//EN
CALSCALE:GREGORIAN
METHOD:PUBLISH
X-WR-CALNAME:Montpeyroux - Hérault
X-ORIGINAL-URL:https://montpeyroux34.com
X-WR-CALDESC:Évènements pour Montpeyroux - Hérault
REFRESH-INTERVAL;VALUE=DURATION:PT1H
X-Robots-Tag:noindex
X-PUBLISHED-TTL:PT1H
BEGIN:VTIMEZONE
TZID:Europe/Paris
BEGIN:DAYLIGHT
TZOFFSETFROM:+0100
TZOFFSETTO:+0200
TZNAME:CEST
DTSTART:20210328T010000
END:DAYLIGHT
BEGIN:STANDARD
TZOFFSETFROM:+0200
TZOFFSETTO:+0100
TZNAME:CET
DTSTART:20211031T010000
END:STANDARD
BEGIN:DAYLIGHT
TZOFFSETFROM:+0100
TZOFFSETTO:+0200
TZNAME:CEST
DTSTART:20220327T010000
END:DAYLIGHT
BEGIN:STANDARD
TZOFFSETFROM:+0200
TZOFFSETTO:+0100
TZNAME:CET
DTSTART:20221030T010000
END:STANDARD
BEGIN:DAYLIGHT
TZOFFSETFROM:+0100
TZOFFSETTO:+0200
TZNAME:CEST
DTSTART:20230326T010000
END:DAYLIGHT
BEGIN:STANDARD
TZOFFSETFROM:+0200
TZOFFSETTO:+0100
TZNAME:CET
DTSTART:20231029T010000
END:STANDARD
END:VTIMEZONE
BEGIN:VEVENT
DTSTART;TZID=Europe/Paris:20221110T160000
DTEND;TZID=Europe/Paris:20221110T233000
DTSTAMP:20260420T201606
CREATED:20221022T075614Z
LAST-MODIFIED:20221022T075614Z
UID:7988-1668096000-1668123000@montpeyroux34.com
SUMMARY:Cinéma itinérant
DESCRIPTION:
URL:https://montpeyroux34.com/event/cinema-itinerant-9/
LOCATION:SALLE POLYVALENTE\, MONTPEYROUX\, France
CATEGORIES:Manifestations
END:VEVENT
BEGIN:VEVENT
DTSTART;TZID=Europe/Paris:20221120T090000
DTEND;TZID=Europe/Paris:20221120T130000
DTSTAMP:20260420T201606
CREATED:20221113T105140Z
LAST-MODIFIED:20221113T105140Z
UID:8031-1668934800-1668949200@montpeyroux34.com
SUMMARY:Bourse aux jouets
DESCRIPTION:
URL:https://montpeyroux34.com/event/bourse-aux-jouets/
LOCATION:Salle du Couvent\, Montpeyroux\, 34150\, France
CATEGORIES:Manifestations
END:VEVENT
BEGIN:VEVENT
DTSTART;TZID=Europe/Paris:20221127T150000
DTEND;TZID=Europe/Paris:20221127T190000
DTSTAMP:20260420T201606
CREATED:20221107T160556Z
LAST-MODIFIED:20221107T160556Z
UID:8016-1669561200-1669575600@montpeyroux34.com
SUMMARY:Loto de l'A.M.E
DESCRIPTION:
URL:https://montpeyroux34.com/event/loto-de-la-m-e/
LOCATION:SALLE POLYVALENTE\, MONTPEYROUX\, France
CATEGORIES:Manifestations
END:VEVENT
END:VCALENDAR