BEGIN:VCALENDAR
VERSION:2.0
PRODID:-//Montpeyroux - Hérault - ECPv6.15.20//NONSGML v1.0//EN
CALSCALE:GREGORIAN
METHOD:PUBLISH
X-ORIGINAL-URL:https://montpeyroux34.com
X-WR-CALDESC:Évènements pour Montpeyroux - Hérault
REFRESH-INTERVAL;VALUE=DURATION:PT1H
X-Robots-Tag:noindex
X-PUBLISHED-TTL:PT1H
BEGIN:VTIMEZONE
TZID:Europe/Paris
BEGIN:DAYLIGHT
TZOFFSETFROM:+0100
TZOFFSETTO:+0200
TZNAME:CEST
DTSTART:20210328T010000
END:DAYLIGHT
BEGIN:STANDARD
TZOFFSETFROM:+0200
TZOFFSETTO:+0100
TZNAME:CET
DTSTART:20211031T010000
END:STANDARD
BEGIN:DAYLIGHT
TZOFFSETFROM:+0100
TZOFFSETTO:+0200
TZNAME:CEST
DTSTART:20220327T010000
END:DAYLIGHT
BEGIN:STANDARD
TZOFFSETFROM:+0200
TZOFFSETTO:+0100
TZNAME:CET
DTSTART:20221030T010000
END:STANDARD
BEGIN:DAYLIGHT
TZOFFSETFROM:+0100
TZOFFSETTO:+0200
TZNAME:CEST
DTSTART:20230326T010000
END:DAYLIGHT
BEGIN:STANDARD
TZOFFSETFROM:+0200
TZOFFSETTO:+0100
TZNAME:CET
DTSTART:20231029T010000
END:STANDARD
END:VTIMEZONE
BEGIN:VEVENT
DTSTART;TZID=Europe/Paris:20221204T100000
DTEND;TZID=Europe/Paris:20221204T170000
DTSTAMP:20260420T184715
CREATED:20221022T075220Z
LAST-MODIFIED:20221022T075220Z
UID:7986-1670148000-1670173200@montpeyroux34.com
SUMMARY:Marché de Noël
DESCRIPTION:
URL:https://montpeyroux34.com/event/marche-de-noel-7/
LOCATION:Eglise du Barry
CATEGORIES:Manifestations
END:VEVENT
BEGIN:VEVENT
DTSTART;TZID=Europe/Paris:20221209T150000
DTEND;TZID=Europe/Paris:20221209T230000
DTSTAMP:20260420T184715
CREATED:20221201T055406Z
LAST-MODIFIED:20221201T145637Z
UID:8039-1670598000-1670626800@montpeyroux34.com
SUMMARY:Cinéma itinérant
DESCRIPTION:
URL:https://montpeyroux34.com/event/cinema-itinerant-10/
LOCATION:SALLE POLYVALENTE\, MONTPEYROUX\, France
CATEGORIES:Manifestations
END:VEVENT
BEGIN:VEVENT
DTSTART;TZID=Europe/Paris:20221216T170000
DTEND;TZID=Europe/Paris:20221216T220000
DTSTAMP:20260420T184715
CREATED:20221201T061259Z
LAST-MODIFIED:20221201T061259Z
UID:8047-1671210000-1671228000@montpeyroux34.com
SUMMARY:1er marché de Noël nocturne de la cave coopérative
DESCRIPTION:
URL:https://montpeyroux34.com/event/1er-marche-de-noel-nocturne-de-la-cave-cooperative/
LOCATION:herault
CATEGORIES:Manifestations
END:VEVENT
END:VCALENDAR