BEGIN:VCALENDAR
VERSION:2.0
PRODID:-//Montpeyroux - Hérault - ECPv6.15.20//NONSGML v1.0//EN
CALSCALE:GREGORIAN
METHOD:PUBLISH
X-WR-CALNAME:Montpeyroux - Hérault
X-ORIGINAL-URL:https://montpeyroux34.com
X-WR-CALDESC:Évènements pour Montpeyroux - Hérault
REFRESH-INTERVAL;VALUE=DURATION:PT1H
X-Robots-Tag:noindex
X-PUBLISHED-TTL:PT1H
BEGIN:VTIMEZONE
TZID:Europe/Paris
BEGIN:DAYLIGHT
TZOFFSETFROM:+0100
TZOFFSETTO:+0200
TZNAME:CEST
DTSTART:20190331T010000
END:DAYLIGHT
BEGIN:STANDARD
TZOFFSETFROM:+0200
TZOFFSETTO:+0100
TZNAME:CET
DTSTART:20191027T010000
END:STANDARD
BEGIN:DAYLIGHT
TZOFFSETFROM:+0100
TZOFFSETTO:+0200
TZNAME:CEST
DTSTART:20200329T010000
END:DAYLIGHT
BEGIN:STANDARD
TZOFFSETFROM:+0200
TZOFFSETTO:+0100
TZNAME:CET
DTSTART:20201025T010000
END:STANDARD
BEGIN:DAYLIGHT
TZOFFSETFROM:+0100
TZOFFSETTO:+0200
TZNAME:CEST
DTSTART:20210328T010000
END:DAYLIGHT
BEGIN:STANDARD
TZOFFSETFROM:+0200
TZOFFSETTO:+0100
TZNAME:CET
DTSTART:20211031T010000
END:STANDARD
END:VTIMEZONE
BEGIN:VEVENT
DTSTART;TZID=Europe/Paris:20201106T103000
DTEND;TZID=Europe/Paris:20201106T120000
DTSTAMP:20260421T114510
CREATED:20201003T145005Z
LAST-MODIFIED:20201031T194441Z
UID:5944-1604658600-1604664000@montpeyroux34.com
SUMMARY:Spectacle pour les tout petits ANNULE
DESCRIPTION:
URL:https://montpeyroux34.com/event/spectacle-pour-les-tout-petits-2/
LOCATION:Salle polyvalente\, Montpeyroux\, 34150\, France
CATEGORIES:Spectacle - Concert
END:VEVENT
BEGIN:VEVENT
DTSTART;TZID=Europe/Paris:20201112T150000
DTEND;TZID=Europe/Paris:20201112T193000
DTSTAMP:20260421T114510
CREATED:20201024T101306Z
LAST-MODIFIED:20201024T101306Z
UID:6037-1605193200-1605209400@montpeyroux34.com
SUMMARY:Don du sang
DESCRIPTION:
URL:https://montpeyroux34.com/event/don-du-sang-9/
LOCATION:Salle du Couvent\, Montpeyroux\, 34150\, France
CATEGORIES:Dons
END:VEVENT
BEGIN:VEVENT
DTSTART;TZID=Europe/Paris:20201127T080000
DTEND;TZID=Europe/Paris:20201127T170000
DTSTAMP:20260421T114510
CREATED:20201024T101446Z
LAST-MODIFIED:20201031T194416Z
UID:6039-1606464000-1606496400@montpeyroux34.com
SUMMARY:Rencontre Jo Witek  ANNULEE
DESCRIPTION:
URL:https://montpeyroux34.com/event/rencontre-jo-witek/
LOCATION:Bibliothéque
CATEGORIES:Manifestations
END:VEVENT
END:VCALENDAR