BEGIN:VCALENDAR
VERSION:2.0
PRODID:-//Montpeyroux - Hérault - ECPv6.15.20//NONSGML v1.0//EN
CALSCALE:GREGORIAN
METHOD:PUBLISH
X-ORIGINAL-URL:https://montpeyroux34.com
X-WR-CALDESC:Évènements pour Montpeyroux - Hérault
REFRESH-INTERVAL;VALUE=DURATION:PT1H
X-Robots-Tag:noindex
X-PUBLISHED-TTL:PT1H
BEGIN:VTIMEZONE
TZID:Europe/Paris
BEGIN:DAYLIGHT
TZOFFSETFROM:+0100
TZOFFSETTO:+0200
TZNAME:CEST
DTSTART:20200329T010000
END:DAYLIGHT
BEGIN:STANDARD
TZOFFSETFROM:+0200
TZOFFSETTO:+0100
TZNAME:CET
DTSTART:20201025T010000
END:STANDARD
BEGIN:DAYLIGHT
TZOFFSETFROM:+0100
TZOFFSETTO:+0200
TZNAME:CEST
DTSTART:20210328T010000
END:DAYLIGHT
BEGIN:STANDARD
TZOFFSETFROM:+0200
TZOFFSETTO:+0100
TZNAME:CET
DTSTART:20211031T010000
END:STANDARD
BEGIN:DAYLIGHT
TZOFFSETFROM:+0100
TZOFFSETTO:+0200
TZNAME:CEST
DTSTART:20220327T010000
END:DAYLIGHT
BEGIN:STANDARD
TZOFFSETFROM:+0200
TZOFFSETTO:+0100
TZNAME:CET
DTSTART:20221030T010000
END:STANDARD
END:VTIMEZONE
BEGIN:VEVENT
DTSTART;TZID=Europe/Paris:20210704T210000
DTEND;TZID=Europe/Paris:20210704T230000
DTSTAMP:20260420T232959
CREATED:20210602T183228Z
LAST-MODIFIED:20210624T185947Z
UID:6636-1625432400-1625439600@montpeyroux34.com
SUMMARY:Concert " les jetés de l'encre"
DESCRIPTION:
URL:https://montpeyroux34.com/event/concert-les-jetes-de-lencre/
LOCATION:Eglise du Barry
CATEGORIES:Spectacle - Concert
END:VEVENT
BEGIN:VEVENT
DTSTART;VALUE=DATE:20210705
DTEND;VALUE=DATE:20210712
DTSTAMP:20260420T232959
CREATED:20210602T183026Z
LAST-MODIFIED:20210624T183854Z
UID:6634-1625443200-1626047999@montpeyroux34.com
SUMMARY:Exposition Art tention
DESCRIPTION:
URL:https://montpeyroux34.com/event/exposition-artention/
LOCATION:SALLE POLYVALENTE\, MONTPEYROUX\, France
CATEGORIES:Manifestations
END:VEVENT
BEGIN:VEVENT
DTSTART;TZID=Europe/Paris:20210705T210000
DTEND;TZID=Europe/Paris:20210705T230000
DTSTAMP:20260420T232959
CREATED:20210602T193415Z
LAST-MODIFIED:20210624T190223Z
UID:6638-1625518800-1625526000@montpeyroux34.com
SUMMARY:Théâtre : 12 hommes en colère
DESCRIPTION:
URL:https://montpeyroux34.com/event/theatre-12-hommes-en-coleres/
LOCATION:Salle du Couvent\, Montpeyroux\, 34150\, France
CATEGORIES:Spectacle - Concert
END:VEVENT
BEGIN:VEVENT
DTSTART;TZID=Europe/Paris:20210722T190000
DTEND;TZID=Europe/Paris:20210722T230000
DTSTAMP:20260420T232959
CREATED:20210707T044056Z
LAST-MODIFIED:20210707T044056Z
UID:6745-1626980400-1626994800@montpeyroux34.com
SUMMARY:Jeudi vin
DESCRIPTION:
URL:https://montpeyroux34.com/event/jeudi-vin/
LOCATION:Cour du couvent
CATEGORIES:Manifestations
END:VEVENT
BEGIN:VEVENT
DTSTART;TZID=Europe/Paris:20210726T210000
DTEND;TZID=Europe/Paris:20210726T230000
DTSTAMP:20260420T232959
CREATED:20210612T193350Z
LAST-MODIFIED:20210612T193350Z
UID:6665-1627333200-1627340400@montpeyroux34.com
SUMMARY:Théâtre : La nostalgie des blattes
DESCRIPTION:
URL:https://montpeyroux34.com/event/theatre-la-nostalgie-des-blattes/
LOCATION:placette de la Dysse
CATEGORIES:Spectacle - Concert
END:VEVENT
BEGIN:VEVENT
DTSTART;TZID=Europe/Paris:20210729T190000
DTEND;TZID=Europe/Paris:20210729T230000
DTSTAMP:20260420T232959
CREATED:20210707T044216Z
LAST-MODIFIED:20210707T044216Z
UID:6749-1627585200-1627599600@montpeyroux34.com
SUMMARY:Jeudi vin
DESCRIPTION:
URL:https://montpeyroux34.com/event/jeudi-vin-2/
LOCATION:Cour du couvent
CATEGORIES:Manifestations
END:VEVENT
BEGIN:VEVENT
DTSTART;TZID=Europe/Paris:20210731T210000
DTEND;TZID=Europe/Paris:20210731T230000
DTSTAMP:20260420T232959
CREATED:20210731T163032Z
LAST-MODIFIED:20210731T163032Z
UID:6800-1627765200-1627772400@montpeyroux34.com
SUMMARY:Cinéma en plein air
DESCRIPTION:
URL:https://montpeyroux34.com/event/cinema-en-plein-air/
LOCATION:Cour du couvent
CATEGORIES:Spectacle - Concert
END:VEVENT
END:VCALENDAR