BEGIN:VCALENDAR
VERSION:2.0
PRODID:-//Montpeyroux - Hérault - ECPv6.15.20//NONSGML v1.0//EN
CALSCALE:GREGORIAN
METHOD:PUBLISH
X-ORIGINAL-URL:https://montpeyroux34.com
X-WR-CALDESC:Évènements pour Montpeyroux - Hérault
REFRESH-INTERVAL;VALUE=DURATION:PT1H
X-Robots-Tag:noindex
X-PUBLISHED-TTL:PT1H
BEGIN:VTIMEZONE
TZID:Europe/Paris
BEGIN:DAYLIGHT
TZOFFSETFROM:+0100
TZOFFSETTO:+0200
TZNAME:CEST
DTSTART:20200329T010000
END:DAYLIGHT
BEGIN:STANDARD
TZOFFSETFROM:+0200
TZOFFSETTO:+0100
TZNAME:CET
DTSTART:20201025T010000
END:STANDARD
BEGIN:DAYLIGHT
TZOFFSETFROM:+0100
TZOFFSETTO:+0200
TZNAME:CEST
DTSTART:20210328T010000
END:DAYLIGHT
BEGIN:STANDARD
TZOFFSETFROM:+0200
TZOFFSETTO:+0100
TZNAME:CET
DTSTART:20211031T010000
END:STANDARD
BEGIN:DAYLIGHT
TZOFFSETFROM:+0100
TZOFFSETTO:+0200
TZNAME:CEST
DTSTART:20220327T010000
END:DAYLIGHT
BEGIN:STANDARD
TZOFFSETFROM:+0200
TZOFFSETTO:+0100
TZNAME:CET
DTSTART:20221030T010000
END:STANDARD
END:VTIMEZONE
BEGIN:VEVENT
DTSTART;TZID=Europe/Paris:20211008T153000
DTEND;TZID=Europe/Paris:20211008T170000
DTSTAMP:20260420T191210
CREATED:20210926T045406Z
LAST-MODIFIED:20210926T050844Z
UID:7004-1633707000-1633712400@montpeyroux34.com
SUMMARY:Cinéma itinérant : Un triomphe
DESCRIPTION:Aaaallez
URL:https://montpeyroux34.com/event/cinema-itinerant-un-triomphe/
LOCATION:Salle polyvalente\, Montpeyroux\, 34150\, France
CATEGORIES:Spectacle - Concert
END:VEVENT
BEGIN:VEVENT
DTSTART;TZID=Europe/Paris:20211008T173000
DTEND;TZID=Europe/Paris:20211008T190000
DTSTAMP:20260420T191210
CREATED:20210926T045730Z
LAST-MODIFIED:20210926T050110Z
UID:7006-1633714200-1633719600@montpeyroux34.com
SUMMARY:Cinéma itinérant : La pat'patrouille
DESCRIPTION:
URL:https://montpeyroux34.com/event/cinema-itinerant-la-patpatrouille/
LOCATION:Salle polyvalente\, Montpeyroux\, 34150\, France
CATEGORIES:Spectacle - Concert
END:VEVENT
BEGIN:VEVENT
DTSTART;TZID=Europe/Paris:20211008T200000
DTEND;TZID=Europe/Paris:20211008T220000
DTSTAMP:20260420T191210
CREATED:20210926T050027Z
LAST-MODIFIED:20210926T050027Z
UID:7008-1633723200-1633730400@montpeyroux34.com
SUMMARY:Cinéma itinérant : Délicieux
DESCRIPTION:
URL:https://montpeyroux34.com/event/cinema-itinerant-delicieux/
LOCATION:Salle polyvalente\, Montpeyroux\, 34150\, France
CATEGORIES:Spectacle - Concert
END:VEVENT
BEGIN:VEVENT
DTSTART;TZID=Europe/Paris:20211016T140000
DTEND;TZID=Europe/Paris:20211016T200000
DTSTAMP:20260420T191210
CREATED:20211001T124935Z
LAST-MODIFIED:20211001T124935Z
UID:7057-1634392800-1634414400@montpeyroux34.com
SUMMARY:Inauguration du Projet ENSEM
DESCRIPTION:
URL:https://montpeyroux34.com/event/inauguration-du-projet-ensem/
LOCATION:Montpeyroux\, herault\, 34150\, France
CATEGORIES:Manifestations
END:VEVENT
BEGIN:VEVENT
DTSTART;TZID=Europe/Paris:20211016T213000
DTEND;TZID=Europe/Paris:20211016T233000
DTSTAMP:20260420T191210
CREATED:20211010T172023Z
LAST-MODIFIED:20211010T172023Z
UID:7093-1634419800-1634427000@montpeyroux34.com
SUMMARY:Concert " la Dysse animée"
DESCRIPTION:
URL:https://montpeyroux34.com/event/concert-la-dysse-animee/
LOCATION:placette de la Dysse
CATEGORIES:Spectacle - Concert
END:VEVENT
BEGIN:VEVENT
DTSTART;TZID=Europe/Paris:20211023T180000
DTEND;TZID=Europe/Paris:20211023T220000
DTSTAMP:20260420T191210
CREATED:20211011T061510Z
LAST-MODIFIED:20211011T061510Z
UID:7100-1635012000-1635026400@montpeyroux34.com
SUMMARY:Gilles Apap : concert classique
DESCRIPTION:
URL:https://montpeyroux34.com/event/gilles-apap-concert-classique/
LOCATION:Eglise du Barry
CATEGORIES:Spectacle - Concert
END:VEVENT
END:VCALENDAR